BEGIN:VCALENDAR
VERSION:2.0
PRODID:-//MeerBusiness Haarlemmermeer - ECPv6.15.17.1//NONSGML v1.0//EN
CALSCALE:GREGORIAN
METHOD:PUBLISH
X-WR-CALNAME:MeerBusiness Haarlemmermeer
X-ORIGINAL-URL:https://haarlemmermeer.meerbusiness.nl
X-WR-CALDESC:Evenementen voor MeerBusiness Haarlemmermeer
REFRESH-INTERVAL;VALUE=DURATION:PT1H
X-Robots-Tag:noindex
X-PUBLISHED-TTL:PT1H
BEGIN:VTIMEZONE
TZID:UTC
BEGIN:STANDARD
TZOFFSETFROM:+0000
TZOFFSETTO:+0000
TZNAME:UTC
DTSTART:20240101T000000
END:STANDARD
END:VTIMEZONE
BEGIN:VEVENT
DTSTART;TZID=UTC:20250226T163000
DTEND;TZID=UTC:20250226T190000
DTSTAMP:20260423T121956
CREATED:20250214T170936Z
LAST-MODIFIED:20250214T170936Z
UID:20328-1740587400-1740596400@haarlemmermeer.meerbusiness.nl
SUMMARY:Op bezoek bij... Nova Campus Haarlemmermeer
DESCRIPTION:Woensdag 26 februari bent u van 16.30 tot 19.00 uur welkom op het Nova College in Hoofddorp\, Paxlaan 26\, gebouw A. \n\n\n\nEen blik op de toekomst van werk en leren \nOndernemers krijgen een unieke inkijk in de wereld van het Nova College\, waar innovatie en praktijkgericht onderwijs centraal staan. U krijgt inzicht in hoe het mbo studenten voorbereidt op een dynamische arbeidsmarkt en hoe samenwerking met het regionale werkveld van onschatbare waarde is. Deze bijeenkomst biedt volop ruimte voor uitwisseling. \n\n\n\nWat kunt u verwachten? \n\n\n\nNaast een gezellige netwerkborrel in de ruimtes van de Nova Business School is er de mogelijkheid om deel te nemen aan diverse interactieve (inloop)sessies\, zoals: \n\n\n\n– (Mini-)workshop generatiemanagement: Hoe gaat u als werkgever om met Generatie Z? \n\n\n\n– Korte rondleiding door Nova Campus Haarlemmermeer: Bezoek een aantal     praktijklokalen. \n\n\n\n– Ontdek en ervaar nieuwe technologieën die het onderwijs gebruikt\, zoals: Virtual Reality\, 3D-printing\, droneprogrammeren en AI. \n\n\n\nFocus op samenwerking \n\n\n\nTijdens deze bijeenkomst kunnen ideeën worden uitgewisseld over de rol van het bedrijfsleven in het onderwijs en vice versa. Hoe kunnen ondernemers profiteren van het frisse perspectief van jonge professionals?Daarnaast is er volop gelegenheid om te netwerken onder het genot van een hapje en een drankje. Diverse ondernemersverenigingen zullen aanwezig zijn\, een mooie kans om met elkaar in gesprek te gaan. \n\n\n\nZien wij u op 26 februari in Hoofddorp?
URL:https://haarlemmermeer.meerbusiness.nl/evenement/op-bezoek-bij-nova-campus-haarlemmermeer/
LOCATION:Nova College in Hoofddorp\, Paxlaan 26\, gebouw A.
ATTACH;FMTTYPE=image/jpeg:https://haarlemmermeer.meerbusiness.nl/wp-content/uploads/2025/02/trap-nova-college-.jpeg
END:VEVENT
END:VCALENDAR