BEGIN:VCALENDAR
VERSION:2.0
PRODID:-//MeerBusiness Haarlemmermeer - ECPv6.15.17.1//NONSGML v1.0//EN
CALSCALE:GREGORIAN
METHOD:PUBLISH
X-ORIGINAL-URL:https://haarlemmermeer.meerbusiness.nl
X-WR-CALDESC:Evenementen voor MeerBusiness Haarlemmermeer
REFRESH-INTERVAL;VALUE=DURATION:PT1H
X-Robots-Tag:noindex
X-PUBLISHED-TTL:PT1H
BEGIN:VTIMEZONE
TZID:UTC
BEGIN:STANDARD
TZOFFSETFROM:+0000
TZOFFSETTO:+0000
TZNAME:UTC
DTSTART:20240101T000000
END:STANDARD
END:VTIMEZONE
BEGIN:VEVENT
DTSTART;TZID=UTC:20250320T163000
DTEND;TZID=UTC:20250320T170000
DTSTAMP:20260423T120349
CREATED:20240930T133418Z
LAST-MODIFIED:20250219T192955Z
UID:15524-1742488200-1742490000@haarlemmermeer.meerbusiness.nl
SUMMARY:Welkom nieuwe leden 2025
DESCRIPTION:Welkom Nieuwe Leden\, bij de Wijnzaak! \nWe heten zowel onze nieuwe als bestaande leden van MeerBusiness van harte welkom tijdens een gezellige en smaakvolle bijeenkomst! Dit is de perfecte gelegenheid om elkaar beter te leren kennen en te proosten op nieuwe connecties. Dit event is een primeurtje\, want voor het eerst organiseren we Welkom Nieuwe Leden bij De Wijnzaak in Hoofddorp\, een locatie die we normaal nog niet hadden! \nDe Wijnzaak is een verborgen parel tussen de bedrijvigheid\, waar je het gevoel hebt dat je binnenstapt in een prachtige Franse wijnstreek of een andere unieke wijnregio. Het biedt een echte wijnbeleving\, dicht bij huis\, waar je kunt genieten van de sfeer en de prachtige selectie van wijnen. \nLaat je verrassen door een selectie van verfijnde wijnen en heerlijke hapjes die je glas wijn compleet maken. Deze avond wordt extra bijzonder met een speeddating-element\, zodat je snel veel ondernemers kunt ontmoeten. Daarnaast krijg je de kans om drie verschillende wijnen te proeven – laat de kenner en proever in je los! \nLocatie: De Wijnzaak\, Hoofddorp\nDatum: 20 maart\nTijd: 16:30  – 20:00 \nEr is geen aansluitend diner\, maar we sluiten de avond af met een gezellige afterborrel\, waar je de mogelijkheid hebt om een rondleiding te krijgen door de Wijnzaak. \nLet op: Er zijn maar 50 plekken beschikbaar voor dit event\, dus meld je snel aan via de app.
URL:https://haarlemmermeer.meerbusiness.nl/evenement/welkom-nieuwe-leden-2025/
ATTACH;FMTTYPE=image/webp:https://haarlemmermeer.meerbusiness.nl/wp-content/uploads/2024/12/De-Wijnzaak_meerbusiness.webp
END:VEVENT
END:VCALENDAR