BEGIN:VCALENDAR
VERSION:2.0
PRODID:-//MeerBusiness Haarlemmermeer - ECPv6.15.17.1//NONSGML v1.0//EN
CALSCALE:GREGORIAN
METHOD:PUBLISH
X-WR-CALNAME:MeerBusiness Haarlemmermeer
X-ORIGINAL-URL:https://haarlemmermeer.meerbusiness.nl
X-WR-CALDESC:Evenementen voor MeerBusiness Haarlemmermeer
REFRESH-INTERVAL;VALUE=DURATION:PT1H
X-Robots-Tag:noindex
X-PUBLISHED-TTL:PT1H
BEGIN:VTIMEZONE
TZID:UTC
BEGIN:STANDARD
TZOFFSETFROM:+0000
TZOFFSETTO:+0000
TZNAME:UTC
DTSTART:20240101T000000
END:STANDARD
END:VTIMEZONE
BEGIN:VEVENT
DTSTART;TZID=UTC:20250417T170000
DTEND;TZID=UTC:20250417T210000
DTSTAMP:20260423T103718
CREATED:20240930T133533Z
LAST-MODIFIED:20250416T140401Z
UID:15527-1744909200-1744923600@haarlemmermeer.meerbusiness.nl
SUMMARY:Terrassen opening Brasserie de Haven 2025
DESCRIPTION:Terrassen opening Brasserie de Haven\n\nHet voorjaar staat voor de deur en dat laten we niet onopgemerkt voorbijgaan!\nBrasserie de Haven opent haar terras en dat moet groots gevierd worden. \nKom genieten van de eerste warme zonnestralen\, een bruisende sfeer en een gezellige middag vol leuke mensen. Denk aan verfrissende drankjes\, een ontspannen ambiance en het ultieme lentegevoel. \nLocatie: Brasserie de Haven\nDatum: 17 April\nTijd: 17:00 – 20:00 \nDiner: Mogelijkheid om aansluitend op eigen kosten te dineren.\nSpeciaal voor deze avond heeft Brasserie de Haven een MeerBusiness shared dining menu samengesteld voor € 29\,50\,- \nLet op: Er zijn maar 50 plekken beschikbaar voor dit event\, dus meld je snel aan via de app! \nTrakteer jezelf op een middag vol gezelligheid. Laat je verrassen door het speciale Meerbusiness shared dining menu\, geniet van verfrissende drankjes en de levendige sfeer op het terras van Brasserie de Haven. \nWij kijken ernaar uit je te zien op 17 april.
URL:https://haarlemmermeer.meerbusiness.nl/evenement/vier-het-voorjaar-2025/
ATTACH;FMTTYPE=image/jpeg:https://haarlemmermeer.meerbusiness.nl/wp-content/uploads/2024/09/Brasserie_de_haven_meerbusiness.jpg
END:VEVENT
END:VCALENDAR