BEGIN:VCALENDAR
VERSION:2.0
PRODID:-//MeerBusiness Haarlemmermeer - ECPv6.15.17.1//NONSGML v1.0//EN
CALSCALE:GREGORIAN
METHOD:PUBLISH
X-ORIGINAL-URL:https://haarlemmermeer.meerbusiness.nl
X-WR-CALDESC:Evenementen voor MeerBusiness Haarlemmermeer
REFRESH-INTERVAL;VALUE=DURATION:PT1H
X-Robots-Tag:noindex
X-PUBLISHED-TTL:PT1H
BEGIN:VTIMEZONE
TZID:UTC
BEGIN:STANDARD
TZOFFSETFROM:+0000
TZOFFSETTO:+0000
TZNAME:UTC
DTSTART:20250101T000000
END:STANDARD
END:VTIMEZONE
BEGIN:VEVENT
DTSTART;TZID=UTC:20260305T090000
DTEND;TZID=UTC:20260305T110000
DTSTAMP:20260422T183851
CREATED:20260120T165002Z
LAST-MODIFIED:20260120T165157Z
UID:22523-1772701200-1772708400@haarlemmermeer.meerbusiness.nl
SUMMARY:MeerBusiness koffie ochtend X FloriWorld
DESCRIPTION:FloriWorld opent haar deuren voor MeerBusiness ☕ \nTijdens deze MeerBusiness koffieochtend zijn we te gast bij FloriWorld.\nhttps://www.flori.world/ \nFloriWorld Trade & Event Center is dé ontmoetingsplek voor exposanten\, inkopers en professionals in de home deco- en sierteeltbranche. Dit ultramoderne handels- en inspiratiecentrum combineert een dynamische beurslocatie met de mogelijkheid om een vaste zakelijke vestiging te realiseren binnen een inspirerende werkomgeving. Dankzij het innovatieve all-in serviceconcept biedt FloriWorld alles wat bedrijven nodig hebben om te groeien en te verbinden. \nFloriWorld ontvangt ons met open armen en neemt ons mee in hun wereld. We krijgen een rondleiding door het experience center en maken uitgebreid kennis met wie zij zijn en wat ze allemaal doen. \nNatuurlijk is er daarnaast volop ruimte om elkaar te ontmoeten\, bij te praten en nieuwe connecties te leggen onder het genot van een goede kop koffie. \nEen inspirerende en laagdrempelige ochtend\, speciaal voor ondernemers die graag bij elkaar in de keuken kijken. \n  \nAanmelden\nMeld je aan via de MeerBusiness app\nGeen lid?! Mail dan naar info@meerbusiness.nl \nWe zien je graag bij FloriWorld binnekort\, de koffie staat klaar.
URL:https://haarlemmermeer.meerbusiness.nl/evenement/meerbusiness-koffie-ochtend-x-floriworld/
ATTACH;FMTTYPE=image/jpeg:https://haarlemmermeer.meerbusiness.nl/wp-content/uploads/2026/01/FloriworldXMeerbusinessXnetwerken_4.jpeg
END:VEVENT
END:VCALENDAR