BEGIN:VCALENDAR
VERSION:2.0
PRODID:-//MeerBusiness Haarlemmermeer - ECPv6.15.17.1//NONSGML v1.0//EN
CALSCALE:GREGORIAN
METHOD:PUBLISH
X-ORIGINAL-URL:https://haarlemmermeer.meerbusiness.nl
X-WR-CALDESC:Evenementen voor MeerBusiness Haarlemmermeer
REFRESH-INTERVAL;VALUE=DURATION:PT1H
X-Robots-Tag:noindex
X-PUBLISHED-TTL:PT1H
BEGIN:VTIMEZONE
TZID:UTC
BEGIN:STANDARD
TZOFFSETFROM:+0000
TZOFFSETTO:+0000
TZNAME:UTC
DTSTART:20250101T000000
END:STANDARD
END:VTIMEZONE
BEGIN:VEVENT
DTSTART;TZID=UTC:20260311T110000
DTEND;TZID=UTC:20260311T140000
DTSTAMP:20260422T183850
CREATED:20251208T110604Z
LAST-MODIFIED:20260209T151001Z
UID:22266-1773226800-1773237600@haarlemmermeer.meerbusiness.nl
SUMMARY:Powervrouwen lunch X Rabobank 2026
DESCRIPTION:Let op: Het evenement zit vol \n  \nPowervrouwen Lunch – in samenwerking met Rabobank \nOp 11 maart 2026 organiseert MeerBusiness samen met Rabobank de Powervrouwen Lunch bij Cpunt in Hoofddorp. \nEen inspirerende middag voor vrouwelijke ondernemers\, met echte gesprekken\, sterke verhalen en nieuwe connecties. \nTijdens deze lunch draait het om ontmoeten en verdiepen. In kleine groepjes van 5 à 6 dames ga je in gesprek\, wissel je van plek en leer je elkaar écht kennen. \nRabobank deelt concrete inzichten over financieren en investeren\, er zijn inspirerende sprekers en live muziek – we zijn tenslotte bij Cpunt. \nEen middag vol energie\, inhoud en gezelligheid\, inclusief lunch. \nWil je iets toevoegen aan de goodiebags? Bestel je goodies dan op tijd\, zodat je dit op 11 maart mee kunt nemen. \nLet op: Het evenement zit vol
URL:https://haarlemmermeer.meerbusiness.nl/evenement/powervrouwen-lunch-x-rabobank-2026/
ATTACH;FMTTYPE=image/jpeg:https://haarlemmermeer.meerbusiness.nl/wp-content/uploads/2025/12/Afbeelding-van-WhatsApp-op-2025-12-08-om-12.02.28_d19386e1.jpg
END:VEVENT
END:VCALENDAR