BEGIN:VCALENDAR
VERSION:2.0
PRODID:-//MeerBusiness Haarlemmermeer - ECPv6.15.17.1//NONSGML v1.0//EN
CALSCALE:GREGORIAN
METHOD:PUBLISH
X-WR-CALNAME:MeerBusiness Haarlemmermeer
X-ORIGINAL-URL:https://haarlemmermeer.meerbusiness.nl
X-WR-CALDESC:Evenementen voor MeerBusiness Haarlemmermeer
REFRESH-INTERVAL;VALUE=DURATION:PT1H
X-Robots-Tag:noindex
X-PUBLISHED-TTL:PT1H
BEGIN:VTIMEZONE
TZID:UTC
BEGIN:STANDARD
TZOFFSETFROM:+0000
TZOFFSETTO:+0000
TZNAME:UTC
DTSTART:20250101T000000
END:STANDARD
END:VTIMEZONE
BEGIN:VEVENT
DTSTART;TZID=UTC:20260416T160000
DTEND;TZID=UTC:20260521T210000
DTSTAMP:20260423T014936
CREATED:20260209T140421Z
LAST-MODIFIED:20260401T101230Z
UID:22597-1776355200-1779397200@haarlemmermeer.meerbusiness.nl
SUMMARY:MeerBusiness Golfcompetitie 2026
DESCRIPTION:Sla een balletje en leg nieuwe connecties\n  \nMeerBusiness en Golf Amsteldijk slaan in 2026 de handen ineen voor een bijzondere samenwerking: de MeerBusiness Golfcompetitie 2026.Een laagdrempelige\, sportieve en gezellige golfreeks waarin ontmoeten\, verbinden en plezier centraal staan. \n  \nGolfen\, ontmoeten en verbinden\nZowel MeerBusiness als Golf Amsteldijk geloven in verbinding\, inspiratie en ontwikkeling. Met deze golfcompetitie brengen we die waarden samen op een plek waar sport en ondernemerschap elkaar op een natuurlijke manier versterken. \nVoor wie?\nDe MeerBusiness Golfcompetitie is toegankelijk voor alle MeerBusiness leden met een GVB.Ook als je nog maar net je GVB hebt behaald\, ben je van harte welkom. \nPer wedstrijddag is er plek voor minimaal 4 en maximaal 36 deelnemers (All Tee Start). \nOpzet van de competitie\nDe competitie bestaat uit vijf wedstrijden in april en mei: \n– Donderdag 16 april \n-Donderdag 23 april \n-Donderdag 30 april \n– Donderdag 7 mei \n-Donderdag 21 mei \n*Aanvang wedstrijden: 16.00 uur \n-Elke deelnemer speelt maximaal 5 wedstrijden. De beste 4 resultaten tellen mee voor het eindklassement \n*Afsluiting met een feestelijke finaledag en borrel op 21 mei \n \nSpelvorm en regels \n\nIndividuele Stableford: iedereen maakt evenveel kans\nWe spelen een 9 holes baan\nPer wedstrijddag worden de namen en NGF-nummers (GSN) van de spelers aangeleverd\n\n\nDeelname & kosten \n\nDeelname: €295\,- per persoon excl. BTW\nInschrijving mogelijk vanaf handicap 54\n\n\nWat is inbegrepen? \n\n5 wedstrijddagen\n5x baancatering (verzorgd door Manon en Hans)\n5x diner na afloop van elke wedstrijd (exclusief dranken)\n\n  \nAanmelden\n\nStuur een mail naar info@meerbusiness.nl en laat weten dat je erbij bent.\nHandicap en NGF-nummers (GSN) van de spelers\nDaarnaast ontvangen we graag je T-shirt maat i.v.m. bedrukken van een polo.\n\nHet aantal plekken per wedstrijddag is beperkt tot 36 deelnemers\, dus wacht niet te lang met aanmelden. Vol = vol. \nDe MeerBusiness Golfcompetitie 2026 is dé kans om sportief bezig te zijn\, nieuwe ondernemers te ontmoeten en samen vijf gezellige golfmiddagen te beleven. \n \nGolf Amsteldijk\, het gezelligste golfcentrum \nMeer info over Golf Amsteldijk: https://www.amsteldijk.nl
URL:https://haarlemmermeer.meerbusiness.nl/evenement/meerbusiness-golfcompetitie-2026/
LOCATION:Golf Amsteldijk
ATTACH;FMTTYPE=image/jpeg:https://haarlemmermeer.meerbusiness.nl/wp-content/uploads/2026/01/MB-Hrlmr-Loogman-golfdag-WV-Productions-15-van-32-1.jpg
END:VEVENT
END:VCALENDAR