BEGIN:VCALENDAR
VERSION:2.0
PRODID:-//MeerBusiness Haarlemmermeer - ECPv6.15.17.1//NONSGML v1.0//EN
CALSCALE:GREGORIAN
METHOD:PUBLISH
X-WR-CALNAME:MeerBusiness Haarlemmermeer
X-ORIGINAL-URL:https://haarlemmermeer.meerbusiness.nl
X-WR-CALDESC:Evenementen voor MeerBusiness Haarlemmermeer
REFRESH-INTERVAL;VALUE=DURATION:PT1H
X-Robots-Tag:noindex
X-PUBLISHED-TTL:PT1H
BEGIN:VTIMEZONE
TZID:UTC
BEGIN:STANDARD
TZOFFSETFROM:+0000
TZOFFSETTO:+0000
TZNAME:UTC
DTSTART:20250101T000000
END:STANDARD
END:VTIMEZONE
BEGIN:VEVENT
DTSTART;TZID=UTC:20261007T160000
DTEND;TZID=UTC:20261007T190000
DTSTAMP:20260422T225507
CREATED:20260108T152617Z
LAST-MODIFIED:20260417T072153Z
UID:22424-1791388800-1791399600@haarlemmermeer.meerbusiness.nl
SUMMARY:Werknemersparticipatie: slim geregeld
DESCRIPTION:Graag nodigen wij u uit voor een inspirerende en informele bijeenkomst op woensdag 7 oktober\, georganiseerd door Rabobank\, Newtone en MeerBusiness. \nTijdens deze middag staat één actueel vraagstuk centraal: hoe borgt u de toekomst van uw onderneming? Werknemersparticipatie speelt hierin een steeds grotere rol. Denk aan het betrekken van sleutelmedewerkers\, het (gedeeltelijk) overdragen van aandelen of het voorbereiden van bedrijfsopvolging binnen of buiten de familie. \nSamen gaan we in op de kansen en aandachtspunten vanuit fiscaal\, juridisch en strategisch perspectief. In kleine groepen bespreken we praktijkvoorbeelden\, zodat u direct inzichten opdoet die toepasbaar zijn op uw eigen situatie. \nVoor wie is dit interessant?Dit event is speciaal voor: \n\nDGA’s en ondernemers binnen familiebedrijven\nOndernemers die nadenken over bedrijfsopvolging\nOrganisaties die sleutelmedewerkers willen binden of laten participeren\nBedrijven die zich oriënteren op (gedeeltelijke) overdracht van aandelen\n\nWe starten om 16.00 uur in Wijnzaak Hoofddorp en sluiten af met een informele wijnproeverij. We zijn om 19:00 uur klaar\, het event heeft geen diner. \nAanmeldenBestel uw gratis ticket via de Eventbrite-link hieronder. \nKlik hier om je kaart te bestellen \nLukt het niet? Mail gerust naar info@meerbusiness.nl. \nTot 7 oktober
URL:https://haarlemmermeer.meerbusiness.nl/evenement/werknemersparticipatie-slim-geregeld/
LOCATION:De Wijnzaak Hoofddorp
ATTACH;FMTTYPE=image/jpeg:https://haarlemmermeer.meerbusiness.nl/wp-content/uploads/2026/01/Newtone_MeerBsuiness_Wijnzaak-scaled.jpg
END:VEVENT
BEGIN:VEVENT
DTSTART;TZID=UTC:20261022T160000
DTEND;TZID=UTC:20261022T190000
DTSTAMP:20260422T225507
CREATED:20260227T144405Z
LAST-MODIFIED:20260227T152455Z
UID:22718-1792684800-1792695600@haarlemmermeer.meerbusiness.nl
SUMMARY:Netwerken tussen de Appelbomen
DESCRIPTION:Tweede editie | Landgoed de Olmenhorst \nOp donderdag 22 oktober komen we opnieuw samen op Landgoed de Olmenhorst. Niet alleen om nieuwe leden te verwelkomen\, maar ook om samen de handen uit de mouwen te steken. \nWe hebben als netwerk appelbomen gedoneerd aan de Voedselbank Haarlemmermeer. Nu is het tijd om te oogsten. En daar zijn veel handjes voor nodig. \nDit event draait om drie dingen:verbinden\, bijdragen en samen doen. \nDonderdag 22 oktober 2026Landgoed de Olmenhorst – Boshuis \nProgramma16:00 – 16:30 Ontvangst en fotomoment16:30 Start & uitleg plukken18:00 Pitches nieuwe leden en matches maken19:00 Officieel einde19:00 – 21:00 Optioneel diner (€30) \nWat kun je verwachten? Samen appels plukken van de bomen die we hebben gedoneerd aan de Voedselbank Haarlemmermeer Korte pitches van nieuwe leden Gericht netwerken in kleine groepen Buiten zijn\, bewegen en écht contact maken \nBelangrijkDit is een buitenactiviteit. Trek laarzen aan en neem een jas mee. We gaan echt het veld in. \nNa afloop is er de mogelijkheid om te blijven dineren voor €30. Bij aanmelding kun je dit aangeven. Het menu volgt binnenkort. \nAanmelden\nAanmelden kan via de app.
URL:https://haarlemmermeer.meerbusiness.nl/evenement/tweede-editie-landgoed-de-olmenhorst/
ATTACH;FMTTYPE=image/jpeg:https://haarlemmermeer.meerbusiness.nl/wp-content/uploads/2026/02/unnamed-7.jpg
END:VEVENT
BEGIN:VEVENT
DTSTART;TZID=UTC:20261105T083000
DTEND;TZID=UTC:20261105T100000
DTSTAMP:20260422T225507
CREATED:20260416T072258Z
LAST-MODIFIED:20260421T140735Z
UID:22832-1793867400-1793872800@haarlemmermeer.meerbusiness.nl
SUMMARY:Speciaal voor grote bedrijven organiseren we op 5 november de derde Corendon Breakfast Club!
DESCRIPTION:Na het succes van de eerste editie kon een vervolg niet uitblijven. We nodigen je uit voor een ontspannen ochtend bij de Starbucks Coffee Bar in het Corendon Hotel Badhoevedorp. \nBegin je dag goed met een heerlijke kop koffie\, verse sapjes\, lekkere ontbijtitems en vooral: laagdrempelig netwerken met andere vertegenwoordigers van grote bedrijven in de regio. \nLocatie: Starbucks Coffee Bar – Corendon Hotel Badhoevedorp (plaza)\nTijd: Vrije inloop tussen 08:30 en 10:00 uur\nInclusief: Koffie\, thee\, sap en ontbijtitems \nGeen tafelschikking\, geen strak programma – gewoon gezellig binnenlopen wanneer het uitkomt\, bijpraten met collega-ondernemers en weer op tijd door naar je volgende afspraak. \nMeld je snel aan via de MeerBusiness app! \n  \nLet op: Alleen voor MeerBusiness leden.\nNiet lid maar wel willen komen? Stuur ons een mailtje\, dan kijken we of er nog plek is.
URL:https://haarlemmermeer.meerbusiness.nl/evenement/speciaal-voor-grote-bedrijven-organiseren-we-op-5-november-de-derde-corendon-breakfast-club/
ATTACH;FMTTYPE=image/png:https://haarlemmermeer.meerbusiness.nl/wp-content/uploads/2026/04/unnamed-1.png
END:VEVENT
BEGIN:VEVENT
DTSTART;TZID=UTC:20261211T170000
DTEND;TZID=UTC:20261212T010000
DTSTAMP:20260422T225507
CREATED:20251208T111543Z
LAST-MODIFIED:20260421T120955Z
UID:22270-1797008400-1797037200@haarlemmermeer.meerbusiness.nl
SUMMARY:MeerBusiness gala 2026
DESCRIPTION:Meerbusiness Gala met ondernemersprijs\, Save the Date! \nHet MeerBusiness Gala op 11 december belooft opnieuw hét event van het jaar te worden voor alle ondernemers uit de Haarlemmermeer. Een avond waar inspiratie\, ontmoeting en vieren samenkomen\, inclusief de uitreiking van de ondernemersprijs. \n\nReserveren plekHet gala is ieder jaar ruim voor het einde van de zomer vol. De deadline voor aanmelden is 20 oktober\, maar vol = vol. Er zijn dit jaar verschillende tafels en je kiest zelf je plek\, dus wees er op tijd bij. Voorreserveren kan alvast via info@meerbusiness.nl. \nBinnenkort maken we meer bekend over het thema en de kosten. Eén ding kunnen we nu al beloven: het wordt weer een avond om niet te missen. \n\nBenieuwd naar de sfeer? Bekijk de aftermovie van vorig jaar en proef alvast wat je kunt verwachten.
URL:https://haarlemmermeer.meerbusiness.nl/evenement/meerbusiness-gala-2026/
ATTACH;FMTTYPE=image/jpeg:https://haarlemmermeer.meerbusiness.nl/wp-content/uploads/2025/12/Ondernemersgala-2024-WV-Productions-154-van-178.jpg
END:VEVENT
END:VCALENDAR