BEGIN:VCALENDAR
VERSION:2.0
PRODID:-//MeerBusiness Haarlemmermeer - ECPv6.15.17.1//NONSGML v1.0//EN
CALSCALE:GREGORIAN
METHOD:PUBLISH
X-WR-CALNAME:MeerBusiness Haarlemmermeer
X-ORIGINAL-URL:https://haarlemmermeer.meerbusiness.nl
X-WR-CALDESC:Evenementen voor MeerBusiness Haarlemmermeer
REFRESH-INTERVAL;VALUE=DURATION:PT1H
X-Robots-Tag:noindex
X-PUBLISHED-TTL:PT1H
BEGIN:VTIMEZONE
TZID:UTC
BEGIN:STANDARD
TZOFFSETFROM:+0000
TZOFFSETTO:+0000
TZNAME:UTC
DTSTART:20230101T000000
END:STANDARD
END:VTIMEZONE
BEGIN:VEVENT
DTSTART;TZID=UTC:20251014T090000
DTEND;TZID=UTC:20251014T110000
DTSTAMP:20260422T215030
CREATED:20250801T140400Z
LAST-MODIFIED:20250801T140523Z
UID:21441-1760432400-1760439600@haarlemmermeer.meerbusiness.nl
SUMMARY:Business Bloom Coffee Talks
DESCRIPTION:Op dinsdag 14 oktober bundelen MeerBusiness Haarlemmermeer & Schiphol enNieuw Ondernemend Aalsmeer hun krachten voor een bijzondere ochtend\, speciaal voor vrouwelijke leden van beide netwerken\, bij Restaurant Lieveling. \nDrie partijen die verbinding\, inspiratie en groei voor vrouwelijke ondernemers belangrijk vinden\, komen samen om jou een waardevolle ochtend te bieden: Business Bloom Coffee Talks. Dit gaat een bijzondere ochtend worden vol connecties\, inspiratie en groei. \nAanmelden: Aanmelden via de MeerBusiness app.\nLet op: het event zit vol\, mail voor reservelijst info@meerbusiness.nl \n 
URL:https://haarlemmermeer.meerbusiness.nl/evenement/business-bloom-coffee-talks/
LOCATION:Restaurant Lieveling\, Redenburgsingel 110\, Hoofddorp\, 2135 AC
ATTACH;FMTTYPE=image/jpeg:https://haarlemmermeer.meerbusiness.nl/wp-content/uploads/2025/08/Business_Bloom_NOA_MeerBusiness-scaled.jpg
END:VEVENT
BEGIN:VEVENT
DTSTART;TZID=UTC:20251001T083000
DTEND;TZID=UTC:20251001T100000
DTSTAMP:20260422T215030
CREATED:20250801T135701Z
LAST-MODIFIED:20250807T073140Z
UID:21437-1759307400-1759312800@haarlemmermeer.meerbusiness.nl
SUMMARY:Corendon Breakfast Club
DESCRIPTION:Speciaal voor grote bedrijven organiseren we op woensdag 1 oktober de allereerste Corendon Breakfast Club. Een informele ochtend om laagdrempelig te netwerken\, bij te praten en de dag goed te beginnen – mét een goede kop koffie in de hand. \n📍 Locatie: Starbucks Coffee Bar – Corendon Hotel Badhoevedorp (plaza)\n🕗 Tijd: Vrije inloop tussen 08:30 en 10:00 uur\n🥐 Inclusief koffie\, thee\, sap en lekkere ontbijtitems\n👥 Voor grote bedrijven \nEr is geen tafelschikking – gewoon gezellig binnenlopen wanneer het uitkomt en weer op tijd door naar je volgende afspraak. \nAanmelden: Aanmelden via de MeerBusiness app –> geen lid? mail naar de mogelijkheden info@meerbusiness.nl \nWe hopen je daar te zien!
URL:https://haarlemmermeer.meerbusiness.nl/evenement/corendon-breakfast-club/
LOCATION:Corendon Hotel Badhoevedorp\, Schipholweg 275\, Badhoevedorp\, 1171 PK
ATTACH;FMTTYPE=image/png:https://haarlemmermeer.meerbusiness.nl/wp-content/uploads/2025/08/restaurant.png
END:VEVENT
BEGIN:VEVENT
DTSTART;TZID=UTC:20250904T170000
DTEND;TZID=UTC:20250904T210000
DTSTAMP:20260422T215030
CREATED:20240930T133824Z
LAST-MODIFIED:20250801T125823Z
UID:15533-1757005200-1757019600@haarlemmermeer.meerbusiness.nl
SUMMARY:Nazomer BBQ 2025
DESCRIPTION:De zomer loopt op z’n eind… tijd om samen het nieuwe seizoen in te luiden!Tijdens deze sfeervolle Nazomer BBQ bij het prachtige Van Beem Buitenleven geniet je van een avond vol goed eten\, fijne gesprekken en inspirerende ontmoetingen met andere ondernemers uit de regio. \nDeze editie staat in het teken van familiebedrijven – met als speciale gastspreker Bill van der Valk\, die zijn inzichten en 5 persoonlijke tips deelt over ondernemen binnen een familiebedrijf. \nOf je nu komt voor de burgers\, de borrel\, het netwerk of de verhalen – je bent van harte welkom! \nAanmelden: Meld je aan via de MeerBusiness app.\nGeen lid en wel willen komen? mail voor de mogelijkheden naar info@meerbusiness.nl
URL:https://haarlemmermeer.meerbusiness.nl/evenement/nazomer-bbq-2025/
LOCATION:Van Beem Buitenleven\, IJweg 177a\,\, Zwanenburg\, 1161 EW
ATTACH;FMTTYPE=image/jpeg:https://haarlemmermeer.meerbusiness.nl/wp-content/uploads/2024/09/aee1db20-da8a-41a9-afef-8b1b94550fa4.jpeg
END:VEVENT
BEGIN:VEVENT
DTSTART;TZID=UTC:20250828T090000
DTEND;TZID=UTC:20250828T113000
DTSTAMP:20260422T215030
CREATED:20250801T124932Z
LAST-MODIFIED:20250801T124932Z
UID:21427-1756371600-1756380600@haarlemmermeer.meerbusiness.nl
SUMMARY:Netwerken met een swing – meld je aan!
DESCRIPTION:Op donderdag 28 augustus 2025 organiseren we samen met Golf Amsteldijk\, onderdeel van de Loogman Groep\, een inspirerende én sportieve ochtend voor ondernemers uit de regio! \nLocatie: Golf Amsteldijk\, verzamelen in de Opkamer\nTijd: 09:00 – 11:30 uur \nWe starten de ochtend met koffie of thee en iets lekkers erbij. In een ontspannen setting kun je op een laagdrempelige manier nieuwe zakelijke contacten leggen. \nEr zal een korte\, inspirerende presentatie worden gegeven over De Wasbubbel en de sponsormogelijkheden bij Golf Amsteldijk – perfect als je meer wilt halen uit lokaal ondernemerschap. \nDaarna is het tijd voor actie: we gaan naar buiten om af te slaan bij de Toptracers! \nVerbreed je netwerk en verbeter je swing onder begeleiding van twee professionele golfcoaches\, die je voorzien van handige tips en tricks. \n*Clubs zijn aanwezig\, dus je hoeft zelf niets mee te nemen. \nWil je erbij zijn? Meld je snel aan via de MeerBusiness app – er is plek voor slechts 20 deelnemers! \nMis deze unieke mix van netwerken\, ontspanning en sportieve uitdaging niet. \nWij zien je graag op donderdag 28 augustus bij Golf Amsteldijk!
URL:https://haarlemmermeer.meerbusiness.nl/evenement/netwerken-met-een-swing-meld-je-aan/
LOCATION:Golf Amsteldijk
ATTACH;FMTTYPE=image/png:https://haarlemmermeer.meerbusiness.nl/wp-content/uploads/2025/08/Loogman_golf-alsteldijk_meerbusiness.png
END:VEVENT
BEGIN:VEVENT
DTSTART;TZID=UTC:20250628T100000
DTEND;TZID=UTC:20250628T180000
DTSTAMP:20260422T215030
CREATED:20250207T090737Z
LAST-MODIFIED:20250207T165727Z
UID:20211-1751104800-1751133600@haarlemmermeer.meerbusiness.nl
SUMMARY:Van Driel Automotive Rally ’25
DESCRIPTION:Welkom bij VDA Rally #4\n\n\n\n\nBen je klaar voor een fantastische dag op vier wielen? Onze rally is niet zomaar een autorit; het is een leuke tocht vol precisie\, navigatie\, teamwork en vooral veel plezier. \nOf je nu een doorgewinterde deelnemer bent of voor het eerst meedoet\, iedereen met een auto is welkom. Hoe meer zielen\, hoe meer vreugd! \n\n\n\n\nDatum: Zaterdag 28 Juni 2025 \n\n\nDirect aanmelden!\n\n\n\n\n\n\n\n\n\n\n\n\nHoe Werkt Het?\n\n\n\n\n\n\n\n\nHet Doel: \nHet doel van onze rally is niet de snelheid\, maar juist de nauwkeurigheid van het volgen van de route\, het oplossen van puzzels en het uitvoeren van opdrachten onderweg. \nElk team krijgt een routeboek met daarin de route en verschillende taken. De uitdaging is om deze route met zo min mogelijk fouten te volgen. \n  \n\n\n\n\nTeams:Deelnemers nemen deel in teams van minstens twee personen per auto – een bestuurder en een navigator. \nMeer teamleden zijn welkom voor extra gezelligheid en hulp! \n\n\n\n\n\n\n\n\n\n\nDe Originaliteitsprijs:Naast precisie waarderen we ook creativiteit en originaliteit. \nDaarom hebben we een originaliteitsprijs voor de meest unieke auto en/of teamoutfit. \nLaat je fantasie de vrije loop! \n  \n\n\n\n\nPrijzen:Aan het einde van de rally worden teams beloond voor hun nauwkeurigheid\, creativiteit en teamspirit. \nEr zijn verschillende prijzen te winnen\, dus elk team heeft een kans om in de schijnwerpers te staan. \n\n\n\n\n\nMeer informatie\n\n\n\n\nMeedoen aan de VDA Rally kost €150\,- per equipe (2 personen). Dit krijg je ervoor terug: \n☕️ Een gezellige start: Met koffie en wat lekkers om in de stemming te komen. \n🥪 Lunch onderweg: Even bijtanken op een mooie locatie. \n🛣️ De route: Een mooie\, leuke tocht. \n🎉 Feestelijke afsluiting: Goed eten\, drinken en muziek.perfect om samen de dag af te sluiten. \n  \n\nDirect aanmelden! \n\n\n\n 
URL:https://haarlemmermeer.meerbusiness.nl/evenement/van-driel-automotive-rally-25/
LOCATION:Van Driel Automotive Showroom\, Jacobus Spijkerdreef 10\, Hoofddorp
CATEGORIES:evenement
ATTACH;FMTTYPE=image/png:https://haarlemmermeer.meerbusiness.nl/wp-content/uploads/2025/02/vandriel_rally_meerbusiness_nieuws.png
END:VEVENT
BEGIN:VEVENT
DTSTART;TZID=UTC:20250611T160000
DTEND;TZID=UTC:20250611T210000
DTSTAMP:20260422T215030
CREATED:20240930T133655Z
LAST-MODIFIED:20250604T164220Z
UID:15530-1749657600-1749675600@haarlemmermeer.meerbusiness.nl
SUMMARY:MeerBusiness Haringparty 2025
DESCRIPTION:  \nWij zijn enthousiast om aan te kondigen dat de MeerBusiness Haringparty 2025 opnieuw plaatsvindt bij Corendon Schiphol Airport\, a Tribute Portfolio Hotel. \nDatum: 11 juni 2025\nTijd: 16:30 – 21:00\nDresscode: Summer Chique \nKom genieten van een geweldige tijd met de lekkerste haring\, netwerken met top ondernemers en een bruisende sfeer! Of je nu komt om te verbinden of gewoon te genieten van de foodtrucks\, entertainment\, en natuurlijk een overvloed aan haring\, deze dag wil je niet missen. \nVorig jaar was het een prachtige dag en we beloven dat dit jaar nóg beter wordt! Zet 11 juni 2025 in je agenda en reserveer snel jouw tickets. \n  \nParkeren\nWe hebben in totaal 1.000 parkeerplaatsen beschikbaar\, dus er is genoeg ruimte! Het is natuurlijk altijd gezellig om samen te rijden\, mocht dat mogelijk zijn. \nParkeerlocaties: \n\nParkeerplaats 1: HappyKids – Kinderdagverblijf (KDV) de Wildenhorst: Sloterweg 301\, 1171 VB Badhoevedorp\nParkeerplaats 2: Sport Combinatie Pancratius (SCPB)\, Lindberghstraat 50\, 1171 GC Badhoevedorp\n\nShuttle busdiensten\nDe shuttles rijden van 15:45 tot 21:15\, voor de reis tussen de parkeerplaatsen en de locatie\, elke 15 minuten.\nTussen 19:00 en 19:30 hebben de buschauffeurs een pauze\, dus dan rijden de shuttles niet. \nBelangrijk: \nGelieve niet rechtstreeks naar Corendon te rijden\, maar naar de parkeerplaatsen. Deze plekken zijn gereserveerd voor VIP-gasten. \n  \nNieuw dit jaar\, een (online) veiling – hij is live!\nEn geloof ons: deze kavels wil je niet missen! \nTijdens de MeerBusiness Haringparty 2025 steunen we Landgoed de Olmenhorst – een initiatief dat zich richt op duurzame landbouw\, biodiversiteit en educatie voor een groenere toekomst. Met jouw bod draag je direct bij aan het adopteren van appelbomen. De opbrengst van de appels die ze oogsten\, wordt volledig gedoneerd aan de Voedselbank Haarlemmermeer\, die 400 huishoudens in de regio ondersteunt. \nEn dan nu… de kavels. Klaar voor?\nZet je bod\, claim die hoofdprijs en steun een goed doel! Het haringvaatje is de hoofdprijs van de Haringparty 2025! Bekijk nu alle kavels en doe meteen een bod – voor jezelf\, voor je bedrijf\, voor de toekomst! \nKlik hier om naar de online veiling te gaan \n  \nScoor hier jouw tickets!  \n \n  \nKlik hier voor de aftermovie van de Haringparty 2024 \n \n  \nOfficiële Uitnodiging \nUitnodiging MeerBusiness Haringparty \n \n  \n  \nStands zijn uitverkocht!\nWil je op de reservelijst\, neem dan contact op: info@meerbusiness.nl \n  \n 
URL:https://haarlemmermeer.meerbusiness.nl/evenement/meerbusiness-haringparty-2025/
ATTACH;FMTTYPE=image/jpeg:https://haarlemmermeer.meerbusiness.nl/wp-content/uploads/2024/09/MeerBusiness-Haringparty-2025.jpg
END:VEVENT
BEGIN:VEVENT
DTSTART;TZID=UTC:20250417T170000
DTEND;TZID=UTC:20250417T210000
DTSTAMP:20260422T215030
CREATED:20240930T133533Z
LAST-MODIFIED:20250416T140401Z
UID:15527-1744909200-1744923600@haarlemmermeer.meerbusiness.nl
SUMMARY:Terrassen opening Brasserie de Haven 2025
DESCRIPTION:Terrassen opening Brasserie de Haven\n\nHet voorjaar staat voor de deur en dat laten we niet onopgemerkt voorbijgaan!\nBrasserie de Haven opent haar terras en dat moet groots gevierd worden. \nKom genieten van de eerste warme zonnestralen\, een bruisende sfeer en een gezellige middag vol leuke mensen. Denk aan verfrissende drankjes\, een ontspannen ambiance en het ultieme lentegevoel. \nLocatie: Brasserie de Haven\nDatum: 17 April\nTijd: 17:00 – 20:00 \nDiner: Mogelijkheid om aansluitend op eigen kosten te dineren.\nSpeciaal voor deze avond heeft Brasserie de Haven een MeerBusiness shared dining menu samengesteld voor € 29\,50\,- \nLet op: Er zijn maar 50 plekken beschikbaar voor dit event\, dus meld je snel aan via de app! \nTrakteer jezelf op een middag vol gezelligheid. Laat je verrassen door het speciale Meerbusiness shared dining menu\, geniet van verfrissende drankjes en de levendige sfeer op het terras van Brasserie de Haven. \nWij kijken ernaar uit je te zien op 17 april.
URL:https://haarlemmermeer.meerbusiness.nl/evenement/vier-het-voorjaar-2025/
ATTACH;FMTTYPE=image/jpeg:https://haarlemmermeer.meerbusiness.nl/wp-content/uploads/2024/09/Brasserie_de_haven_meerbusiness.jpg
END:VEVENT
BEGIN:VEVENT
DTSTART;TZID=UTC:20250320T163000
DTEND;TZID=UTC:20250320T170000
DTSTAMP:20260422T215030
CREATED:20240930T133418Z
LAST-MODIFIED:20250219T192955Z
UID:15524-1742488200-1742490000@haarlemmermeer.meerbusiness.nl
SUMMARY:Welkom nieuwe leden 2025
DESCRIPTION:Welkom Nieuwe Leden\, bij de Wijnzaak! \nWe heten zowel onze nieuwe als bestaande leden van MeerBusiness van harte welkom tijdens een gezellige en smaakvolle bijeenkomst! Dit is de perfecte gelegenheid om elkaar beter te leren kennen en te proosten op nieuwe connecties. Dit event is een primeurtje\, want voor het eerst organiseren we Welkom Nieuwe Leden bij De Wijnzaak in Hoofddorp\, een locatie die we normaal nog niet hadden! \nDe Wijnzaak is een verborgen parel tussen de bedrijvigheid\, waar je het gevoel hebt dat je binnenstapt in een prachtige Franse wijnstreek of een andere unieke wijnregio. Het biedt een echte wijnbeleving\, dicht bij huis\, waar je kunt genieten van de sfeer en de prachtige selectie van wijnen. \nLaat je verrassen door een selectie van verfijnde wijnen en heerlijke hapjes die je glas wijn compleet maken. Deze avond wordt extra bijzonder met een speeddating-element\, zodat je snel veel ondernemers kunt ontmoeten. Daarnaast krijg je de kans om drie verschillende wijnen te proeven – laat de kenner en proever in je los! \nLocatie: De Wijnzaak\, Hoofddorp\nDatum: 20 maart\nTijd: 16:30  – 20:00 \nEr is geen aansluitend diner\, maar we sluiten de avond af met een gezellige afterborrel\, waar je de mogelijkheid hebt om een rondleiding te krijgen door de Wijnzaak. \nLet op: Er zijn maar 50 plekken beschikbaar voor dit event\, dus meld je snel aan via de app.
URL:https://haarlemmermeer.meerbusiness.nl/evenement/welkom-nieuwe-leden-2025/
ATTACH;FMTTYPE=image/webp:https://haarlemmermeer.meerbusiness.nl/wp-content/uploads/2024/12/De-Wijnzaak_meerbusiness.webp
END:VEVENT
BEGIN:VEVENT
DTSTART;TZID=UTC:20250306T113000
DTEND;TZID=UTC:20250306T140000
DTSTAMP:20260422T215030
CREATED:20241222T094915Z
LAST-MODIFIED:20241222T094915Z
UID:20022-1741260600-1741269600@haarlemmermeer.meerbusiness.nl
SUMMARY:MeerBusiness PowerVrouwen Lunch
DESCRIPTION:Op donderdag 6 maart gaan we in samenwerking met de Rabobank een PowerVrouwen Lunch organiseren. Dit ook in het teken van internationale vrouwendag op 11 maart. \n  \nEr komen 15 plekken beschikbaar in de app. Als je hem online ziet komen raden wij aan om je snel aan te melden. \n  \nMeer info volgt.
URL:https://haarlemmermeer.meerbusiness.nl/evenement/meerbusiness-powervrouwen-lunch/
ATTACH;FMTTYPE=image/jpeg:https://haarlemmermeer.meerbusiness.nl/wp-content/uploads/2024/12/Meerbusiness-Powervrouwen148-scaled.jpg
END:VEVENT
BEGIN:VEVENT
DTSTART;TZID=UTC:20250226T163000
DTEND;TZID=UTC:20250226T190000
DTSTAMP:20260422T215030
CREATED:20250214T170936Z
LAST-MODIFIED:20250214T170936Z
UID:20328-1740587400-1740596400@haarlemmermeer.meerbusiness.nl
SUMMARY:Op bezoek bij... Nova Campus Haarlemmermeer
DESCRIPTION:Woensdag 26 februari bent u van 16.30 tot 19.00 uur welkom op het Nova College in Hoofddorp\, Paxlaan 26\, gebouw A. \n\n\n\nEen blik op de toekomst van werk en leren \nOndernemers krijgen een unieke inkijk in de wereld van het Nova College\, waar innovatie en praktijkgericht onderwijs centraal staan. U krijgt inzicht in hoe het mbo studenten voorbereidt op een dynamische arbeidsmarkt en hoe samenwerking met het regionale werkveld van onschatbare waarde is. Deze bijeenkomst biedt volop ruimte voor uitwisseling. \n\n\n\nWat kunt u verwachten? \n\n\n\nNaast een gezellige netwerkborrel in de ruimtes van de Nova Business School is er de mogelijkheid om deel te nemen aan diverse interactieve (inloop)sessies\, zoals: \n\n\n\n– (Mini-)workshop generatiemanagement: Hoe gaat u als werkgever om met Generatie Z? \n\n\n\n– Korte rondleiding door Nova Campus Haarlemmermeer: Bezoek een aantal     praktijklokalen. \n\n\n\n– Ontdek en ervaar nieuwe technologieën die het onderwijs gebruikt\, zoals: Virtual Reality\, 3D-printing\, droneprogrammeren en AI. \n\n\n\nFocus op samenwerking \n\n\n\nTijdens deze bijeenkomst kunnen ideeën worden uitgewisseld over de rol van het bedrijfsleven in het onderwijs en vice versa. Hoe kunnen ondernemers profiteren van het frisse perspectief van jonge professionals?Daarnaast is er volop gelegenheid om te netwerken onder het genot van een hapje en een drankje. Diverse ondernemersverenigingen zullen aanwezig zijn\, een mooie kans om met elkaar in gesprek te gaan. \n\n\n\nZien wij u op 26 februari in Hoofddorp?
URL:https://haarlemmermeer.meerbusiness.nl/evenement/op-bezoek-bij-nova-campus-haarlemmermeer/
LOCATION:Nova College in Hoofddorp\, Paxlaan 26\, gebouw A.
ATTACH;FMTTYPE=image/jpeg:https://haarlemmermeer.meerbusiness.nl/wp-content/uploads/2025/02/trap-nova-college-.jpeg
END:VEVENT
BEGIN:VEVENT
DTSTART;TZID=UTC:20250211T154500
DTEND;TZID=UTC:20250211T210000
DTSTAMP:20260422T215030
CREATED:20241222T101044Z
LAST-MODIFIED:20250127T115233Z
UID:20028-1739288700-1739307600@haarlemmermeer.meerbusiness.nl
SUMMARY:MeerBusiness Pizza Prosecco & Porsches
DESCRIPTION:MeerBusiness Pizza Prosecco & Porsches  powered by .. Loogman Carwash en Van Driel Automotive. \nValentijn komt eraan\, en wij hebben het perfecte recept voor een middag vol plezier en passie! \nSamen met Van Driel Automotive en Loogman Carwash nodigen we je uit voor een event waarin alles draait om wat we lief hebben: lekkere pizza’s\, sprankelende prosecco en natuurlijk indrukwekkende Porsches. \n  \nProgramma: \n\n15:45 – 16:15: Inloop bij Van Driel Automotive\n16:30: Start van het programma\n16:45: Groepen indelen en interactief aan de slag\n18:30 – 21:00: Pizza en Prosecco bij Van Driel\n20:00: Prijsuitreiking\n21:00: Einde\, maar de herinneringen blijven!\n\nLet op!\nZet jezelf snel op “aanwezig” in de app om je plek te reserveren. \nSchrijf 11 februari alvast in je agenda en meld je aan voor een middag vol gezelligheid en netwerken! \nPS. Neem je vieze wagen mee\, we gaan niet zeggen wat we gaan doen.\n🌹🌹🌹🌹🌹🌹🌹🌹🌹🌹🌹🌹🌹🌹🌹
URL:https://haarlemmermeer.meerbusiness.nl/evenement/meerbusiness-pizza-prosecco-porsches/
ATTACH;FMTTYPE=image/png:https://haarlemmermeer.meerbusiness.nl/wp-content/uploads/2024/12/Pizza-Prosecco-Porsches.png
END:VEVENT
BEGIN:VEVENT
DTSTART;TZID=UTC:20250206T160000
DTEND;TZID=UTC:20250206T190000
DTSTAMP:20260422T215030
CREATED:20250109T141403Z
LAST-MODIFIED:20250109T144301Z
UID:20072-1738857600-1738868400@haarlemmermeer.meerbusiness.nl
SUMMARY:De Beursvloer MeerWaarde
DESCRIPTION:Creëer maatschappelijke en zakelijke meerwaarde voor jouw bedrijf of organisatie tijdens de Beursvloer van Haarlemmermeer. De plek waar Social Impact gemaakt wordt door te handelen met gesloten beurs in talent\, tijd\, kennis\, handjes en materiaal.\nWat kan je verwachten op de Maatschappelijke Beursvloer?\nDe Maatschappelijke Beursvloer is een speeddate event waar vertegenwoordigers van bedrijven en lokale maatschappelijke organisaties (stichtingen\, (sport)verenigingen & burgerinitiatieven) elkaar opzoeken om binnen circa 1\,5 uur tijd met elkaar te onderhandelen en matches te maken. Er zijn vier expertise hoeken waar deelnemers met hun vraag of aanbod terecht kunnen. Deze zijn als volgt: \n1. Menskracht & Hand-en-spandiensten\n2. Materialen & Faciliteiten\n3. Marketing & Communicatie\n4. Advies & Training \nHoekvrouwen- en mannen\nIn elk hoek staan hoekvrouwen/-mannen die de deelnemers helpen bij het vinden van de juiste partij voor het maken van een match. Een Spreekstalmeester stuurt de Beursvloer aan en zorgt dat iedereen blijft onderhandelen. De Beursvloer wordt geopend en gesloten met een slag op de gong. \n  \nVoorbeelden van Matches\nNa de Beursvloer krijgen partijen één jaar de tijd om de gemaakte matches uit te werken. Bekijk hier voorbeelden van gemaakte matches. \n  \nProgramma:\n15:30: Inloop. (ontvangst met koffie en thee) \n16:00: Start-up sessies van het 4e Business& Social impact event. \n16:20: Hartelijk Welkom. (Wethouder & Directeur-Bestuurder Meerwaarde) \n16:30: Speeddate. (Maak kennis met elkaar) \n16:45: De 17e maatschappelijke beursvloer van Haarlemmermeer. (Wethouder geeft het startschot van de Beursvloer) \n18:00: Sluiting van de Beursvloer en aansluitend netwerkborrel. \n18:10: Uitreiking maatschappelijk betrokken ondernemen Award 2025. \n19:00: Einde event! \n  \nAanmelden\nHeb jij ook goede voornemens voor dit jaar? Dan zien we jou zeker op 6 februari \nAanmelden klik dan hier! \n  \nTeam Beursvloer 2025\nDe Beursvloer wordt gerealiseerd i.s.m. mediapartners MeerBusiness Haarlemmermeer\, InfoRegio\, Vastgoed Haarlemmermeer\, HMore en Schenk Makelaars. \n \nOpmerkingen\, ideeën of vragen? Neem contact op:\nsocialimpact@meerwaarde.nl\n023 – 569 88 71
URL:https://haarlemmermeer.meerbusiness.nl/evenement/de-beursvloer-meerwaarde/
ATTACH;FMTTYPE=image/jpeg:https://haarlemmermeer.meerbusiness.nl/wp-content/uploads/2025/01/Foto-09-01-2025-om-15.40-scaled.jpeg
END:VEVENT
BEGIN:VEVENT
DTSTART;TZID=UTC:20250128T163000
DTEND;TZID=UTC:20250128T210000
DTSTAMP:20260422T215030
CREATED:20240930T133042Z
LAST-MODIFIED:20250203T111011Z
UID:15521-1738081800-1738098000@haarlemmermeer.meerbusiness.nl
SUMMARY:MeerBusiness Padeltoernooi 2025
DESCRIPTION:🎾 Het eerste evenement van 2025: MeerBusiness Padeltoernooi! \nWe hebben het nieuwe jaar sportief afgetrapt met het eerste MeerBusiness-evenement van 2025: het padeltoernooi\, Powered by ING. \nHet was een geweldige en sportieve avond\, waarin fanatieke rally’s\, scherpe smashes en ontspannende gesprekken elkaar perfect afwisselden. Tussendoor werd er volop waardevol genetwerkt. \nWe hebben enorm genoten van de energie\, inzet en het enthousiasme van iedereen die erbij was. \nHet was fantastisch om oude gezichten weer te zien en nieuwe connecties te leggen. \nDank aan Padelpoints voor de gastvrijheid en de uitstekende organisatie op de locatie. En 📸Wilco Veerman dank voor de actiefoto’s! \nDeze aftrap belooft een mooi jaar te worden!\nOp naar nog veel meer mooie momenten in 2025!MeerBusiness Padeltoernooi 2025
URL:https://haarlemmermeer.meerbusiness.nl/evenement/meerbusiness-padeltoernooi-2025/
CATEGORIES:evenement
ATTACH;FMTTYPE=image/jpeg:https://haarlemmermeer.meerbusiness.nl/wp-content/uploads/2024/09/MeerBusiness-Padeltoernooi-2025.jpg
END:VEVENT
BEGIN:VEVENT
DTSTART;TZID=UTC:20241213T170000
DTEND;TZID=UTC:20241213T170000
DTSTAMP:20260422T215030
CREATED:20240930T132420Z
LAST-MODIFIED:20241126T203413Z
UID:15517-1734109200-1734109200@haarlemmermeer.meerbusiness.nl
SUMMARY:Jubileumgala met Ondernemingsprijs
DESCRIPTION:Dit jaar dompelen we ons onder in de glinsterende wereld van disco fever! Het MeerBusiness Gala op 13 december bij Van der Valk belooft een avond vol glitter\, glamour en geweldige netwerkmogelijkheden te worden. Het evenement is uitverkocht! Heb je je nog niet aangemeld en wil je toch een kans maken om erbij te zijn? Meld je dan aan voor onze reservelijst door ons te mailen. Om alvast in de stemming te komen\, bekijk hier de aftermovie van vorig jaar: Aftermovie Gala. \n  \n \n  \nAchter de schermen zijn we volop bezig met de voorbereidingen om er een onvergetelijke avond van te maken. Van spetterende optredens\, waaronder een show van Lois Lane\, tot de feestelijke uitreiking van de Ondernemersprijs 2024 en een afterparty die je niet wilt missen – mede mogelijk gemaakt door Schenk Makelaars B.V. – alles wordt tot in de puntjes geregeld! 🌟🎶🎉 \n  \nMet de black tie disco dresscode combineren we stijl en feest: dames schitteren in lange jurken (met een vleugje glitter!) en heren in smoking. Dames\, nog op zoek naar een thema-look voor haar en make-up? Bij HEAD CANDY – Haar Boetiek staan Linda Yildirim – van der Kamp en Geneviève D. voor je klaar! Vergeet niet te reserveren\, want ze hebben een speciale deal voor het MeerBusiness Gala gemaakt. 💄✨ \n  \nNog geen outfit? Bij Blaque Gala Cocktail Couture in Haarlem en Hoppezak Kledingverhuur in Leiden vind je precies wat je nodig hebt. 💃🕺 \n  \nHeb je je nog niet aangemeld en wil je toch een kans maken om erbij te zijn? Meld je dan aan voor onze reservelijst door ons te mailen. Wij kijken ernaar uit om samen een onvergetelijke avond te beleven. Het is vanaf nu aftellen geblazen! \n  \n  \n Van dansvloer naar droombed: blijf slapen na het MeerBusiness gala \n\n\n\n\n  \n\n\n\nNa een sprankelende avond vol glamour en dans bij het MeerBusiness Gala\, begrijpen we dat jullie de feeststemming misschien nog even willen vasthouden. Goed nieuws! Het is mogelijk om na het gala gezellig te blijven overnachten in het Van der Valk Hotel. Reserveer snel je overnachting en geniet van een comfortabele nacht na een onvergetelijke avond. Klik op deze link om direct je kamer te boeken voor een mooie prijs.   \n  \nTot ziens op het Gala met Ondernemingsprijs 2024!
URL:https://haarlemmermeer.meerbusiness.nl/evenement/jubileumgala-met-ondernemingsprijs/
ATTACH;FMTTYPE=image/jpeg:https://haarlemmermeer.meerbusiness.nl/wp-content/uploads/2024/11/MeerBusiness-Hmeer-Gala-insta24-SOLD.jpg
END:VEVENT
BEGIN:VEVENT
DTSTART;VALUE=DATE:20241105
DTEND;VALUE=DATE:20241106
DTSTAMP:20260422T215030
CREATED:20240918T123722Z
LAST-MODIFIED:20241025T113417Z
UID:12266-1730764800-1730851199@haarlemmermeer.meerbusiness.nl
SUMMARY:Exclusief Partner Diner x Shanghai zaal
DESCRIPTION:Exclusief voor MeerBusiness Partners \nOp 5 november organiseren we een exclusief event voor onze MeerBusiness partners in het sfeervolle Van der Valk Hotel. \nDit is de perfecte gelegenheid om alvast op te warmen voor het gala! Kom netwerken\, genieten van een inspirerende avond en ontmoet andere partners van MeerBusiness. \nMeer informatie volgt binnenkort\, maar zorg dat je deze datum alvast in je agenda zet! \nDatum: 5 november\nLocatie: Van der Valk Hotel\nExclusief voor MeerBusiness Partners \nWe kijken ernaar uit om jullie te zien!
URL:https://haarlemmermeer.meerbusiness.nl/evenement/exclusief-partner-diner-x-shanghai-zaal/
ATTACH;FMTTYPE=image/jpeg:https://haarlemmermeer.meerbusiness.nl/wp-content/uploads/2024/09/Exclusief-Partner-Diner-x-Shanghai-zaal.jpg
END:VEVENT
BEGIN:VEVENT
DTSTART;TZID=UTC:20241024T163000
DTEND;TZID=UTC:20241024T170000
DTSTAMP:20260422T215030
CREATED:20240918T123850Z
LAST-MODIFIED:20241025T113423Z
UID:12270-1729787400-1729789200@haarlemmermeer.meerbusiness.nl
SUMMARY:Nieuwe Leden Matchmaking Event + bekendmaking genomineerde Ondernemingsprijs
DESCRIPTION:Wat kun je verwachten op deze dag?\nPitch jezelf: Als nieuw lid kun je tijdens dit event een 1-minuut pitch geven over jouwzelf en je bedrijf. Een geweldige kans om je direct voor te stellen aan het netwerk! \nInteractieve momenten: Wij hebben een boeiend programma samengesteld met veel interactieve momenten.\nNetwerkmatches: We zullen nieuwe koppels binnen ons netwerk creëren\, zodat je meteen waardevolle contacten kunt leggen.Afsluiting in stijl: De avond wordt feestelijk afgesloten tijdens de voorjaars borrel van Corendon*Voel je vrij om een collega\, vriend of potentiële nieuwe leden mee te brengen! Ze kunnen een toegangskaartje kopen voor slechts €25\,- binnekort komt er een eventbrite link aan. \nAls je als bedrijf een leuk relatiegeschenk hebt dat je wilt uitdelen of voor in de goodiebag\, aarzel dan niet om ons op de hoogte te stellen. Samen kunnen we bekijken of het aansluit bij de dag. Wij kijken er echt naar uit om je te verwelkomen en samen een geweldige tijd te beleven! \nAanmelden\nVia de app is inschrijven al mogelijk. \nNiet lid maar wel willen komen? Of potentieel lid en willen sfeerproeven? Stuur dan een mail naar info@meerbusiness.nl.
URL:https://haarlemmermeer.meerbusiness.nl/evenement/nieuwe-leden-matchmaking-event-bekendmaking-genomineerde-ondernemingsprijs/
ATTACH;FMTTYPE=image/jpeg:https://haarlemmermeer.meerbusiness.nl/wp-content/uploads/2024/09/Nieuwe-Leden-Matchmaking-Event-bekendmaking-genomineerde-Ondernemingsprijs.jpeg
END:VEVENT
END:VCALENDAR