BEGIN:VCALENDAR
VERSION:2.0
PRODID:-//MeerBusiness Haarlemmermeer - ECPv6.15.17.1//NONSGML v1.0//EN
CALSCALE:GREGORIAN
METHOD:PUBLISH
X-WR-CALNAME:MeerBusiness Haarlemmermeer
X-ORIGINAL-URL:https://haarlemmermeer.meerbusiness.nl
X-WR-CALDESC:Evenementen voor MeerBusiness Haarlemmermeer
REFRESH-INTERVAL;VALUE=DURATION:PT1H
X-Robots-Tag:noindex
X-PUBLISHED-TTL:PT1H
BEGIN:VTIMEZONE
TZID:UTC
BEGIN:STANDARD
TZOFFSETFROM:+0000
TZOFFSETTO:+0000
TZNAME:UTC
DTSTART:20250101T000000
END:STANDARD
END:VTIMEZONE
BEGIN:VEVENT
DTSTART;TZID=UTC:20260105T193000
DTEND;TZID=UTC:20260105T213000
DTSTAMP:20260422T201632
CREATED:20251210T141555Z
LAST-MODIFIED:20251210T141555Z
UID:22344-1767641400-1767648600@haarlemmermeer.meerbusiness.nl
SUMMARY:Nieuwjaarsreceptie van de gemeente Haarlemmermeer
DESCRIPTION:Met genoegen nodigt het college van burgemeester en wethouders u uit voor de nieuwjaarsreceptie van de gemeente Haarlemmermeer. \nDe receptie vindt plaats op maandag 5 januari 2026 vanaf 19.30 uur in Hotel Schiphol A4 in Hoofddorp. \nWij wensen u fijne feestdagen en zien ernaar uit u te mogen begroeten om gezamenlijk het nieuwe jaar in te luiden! \nNamens het college van burgemeester en wethouders\,\nMarianne Schuurmans-Wijdeven \nProgramma: \n19.30 uur       Aanvang nieuwjaarsreceptie gemeente Haarlemmermeer\n20.00 uur       Nieuwjaarstoespraak burgemeester Marianne Schuurmans-Wijdeven\n20.15 uur       Vervolg receptie\n21.30 uur       Einde receptie \nLocatie: Hotel Schiphol\nRijksweg A 4 Nr.3\nHoofddorp \nRoutebeschrijving:\nHotel Schiphol A4\nVia de Bennebroekerweg en de Tijmweg in Rijsenhout komt u bij de parkeerplaats van het hotel. Het parkeren is gratis.
URL:https://haarlemmermeer.meerbusiness.nl/evenement/nieuwjaarsreceptie-van-de-gemeente-haarlemmermeer/
LOCATION:Van der Valk Hotel\, Netherlands
ATTACH;FMTTYPE=image/png:https://haarlemmermeer.meerbusiness.nl/wp-content/uploads/2025/12/nieuwjaarsreceptie_gemeente_haarlemmermeer.png
END:VEVENT
BEGIN:VEVENT
DTSTART;TZID=UTC:20260121T083000
DTEND;TZID=UTC:20260121T100000
DTSTAMP:20260422T201632
CREATED:20251208T102125Z
LAST-MODIFIED:20251208T103115Z
UID:22262-1768984200-1768989600@haarlemmermeer.meerbusiness.nl
SUMMARY:Corendon Breakfast Club! 2026
DESCRIPTION:Speciaal voor grote bedrijven organiseren we op woensdag 21 januari de tweede Corendon Breakfast Club! \nNa het succes van de eerste editie kon een vervolg niet uitblijven. We nodigen je uit voor een ontspannen ochtend bij de Starbucks Coffee Bar in het Corendon Hotel Badhoevedorp. \nBegin je dag goed met een heerlijke kop koffie\, verse sapjes\, lekkere ontbijtitems en vooral: laagdrempelig netwerken met andere vertegenwoordigers van grote bedrijven in de regio. \nLocatie: Starbucks Coffee Bar – Corendon Hotel Badhoevedorp (plaza)\nTijd: Vrije inloop tussen 08:30 en 10:00 uur\nInclusief: Koffie\, thee\, sap en ontbijtitems \nGeen tafelschikking\, geen strak programma – gewoon gezellig binnenlopen wanneer het uitkomt\, bijpraten met collega-ondernemers en weer op tijd door naar je volgende afspraak. \nMeld je snel aan en ervaar zelf waarom iedereen zo enthousiast was over de eerste editie!
URL:https://haarlemmermeer.meerbusiness.nl/evenement/21-jan-2026-corendon-breakfast-club/
ATTACH;FMTTYPE=image/jpeg:https://haarlemmermeer.meerbusiness.nl/wp-content/uploads/2025/12/thumb_eventimage_68dd488d6907d_1759332493.jpg
END:VEVENT
END:VCALENDAR